BEGIN:VCALENDAR
VERSION:2.0
PRODID:-//Carli Lansley Foundation - ECPv6.15.14//NONSGML v1.0//EN
CALSCALE:GREGORIAN
METHOD:PUBLISH
X-WR-CALNAME:Carli Lansley Foundation
X-ORIGINAL-URL:https://www.carlilansleyfoundation.org.uk
X-WR-CALDESC:Events for Carli Lansley Foundation
REFRESH-INTERVAL;VALUE=DURATION:PT1H
X-Robots-Tag:noindex
X-PUBLISHED-TTL:PT1H
BEGIN:VTIMEZONE
TZID:Europe/London
BEGIN:DAYLIGHT
TZOFFSETFROM:+0000
TZOFFSETTO:+0100
TZNAME:BST
DTSTART:20240331T010000
END:DAYLIGHT
BEGIN:STANDARD
TZOFFSETFROM:+0100
TZOFFSETTO:+0000
TZNAME:GMT
DTSTART:20241027T010000
END:STANDARD
BEGIN:DAYLIGHT
TZOFFSETFROM:+0000
TZOFFSETTO:+0100
TZNAME:BST
DTSTART:20250330T010000
END:DAYLIGHT
BEGIN:STANDARD
TZOFFSETFROM:+0100
TZOFFSETTO:+0000
TZNAME:GMT
DTSTART:20251026T010000
END:STANDARD
BEGIN:DAYLIGHT
TZOFFSETFROM:+0000
TZOFFSETTO:+0100
TZNAME:BST
DTSTART:20260329T010000
END:DAYLIGHT
BEGIN:STANDARD
TZOFFSETFROM:+0100
TZOFFSETTO:+0000
TZNAME:GMT
DTSTART:20261025T010000
END:STANDARD
END:VTIMEZONE
BEGIN:VEVENT
DTSTART;TZID=Europe/London:20250911T183000
DTEND;TZID=Europe/London:20250911T220000
DTSTAMP:20260423T123251
CREATED:20250902T111639Z
LAST-MODIFIED:20250903T115435Z
UID:1002531-1757615400-1757628000@www.carlilansleyfoundation.org.uk
SUMMARY:Whisky Tasting Event - September 11 2025
DESCRIPTION:Being held at ‘Bits on The Side’ (117 Rectory Grove\, Leigh on Sea)\, this will be a journey through some of the world’s best whiskies with whisky expert\, Dawn Davies \n£30 per person \nFull details on the flyer \nPlease contact Liz on 07961 445066 for tickets
URL:https://www.carlilansleyfoundation.org.uk/event/whisky-tasting-event-september-11-2025/
LOCATION:Essex
CATEGORIES:Events & Fundraisers
ATTACH;FMTTYPE=image/jpeg:https://www.carlilansleyfoundation.org.uk/wp-content/uploads/2025/09/whisky-tasting.jpg
END:VEVENT
BEGIN:VEVENT
DTSTART;TZID=Europe/London:20250924T190000
DTEND;TZID=Europe/London:20250924T211500
DTSTAMP:20260423T123251
CREATED:20250313T130904Z
LAST-MODIFIED:20250328T091830Z
UID:501580-1758740400-1758748500@www.carlilansleyfoundation.org.uk
SUMMARY:Free CPR/Defib Training Session | 24 September 2025 | Saxon Hall
DESCRIPTION:We are delighted to announce a joint initiative between our foundation\, 2 local rotary clubs (Thorpe Bay and Leigh) and Pronto training to provide free CPR and defib training for residents local to Southend. \nEach session will last for 2 hours (with an interval of a about 20 minutes for teas and coffees). The first section will provide vital training on how to perform CPR on an adult. The second section will show how to safely use a defibrillator plus how to perform CPR on a baby or child. \nEach session will accommodate 30 people and will be fully funded by our foundation and the rotary clubs. \nThe sessions will be run by Pronto training\, a local first aid company who specialise in a variety of training programmes for all areas of first aid. \n\nAll the training will be provided FREE\nAll the training MUST be booked in advance (no walk-ins would be allowed)
URL:https://www.carlilansleyfoundation.org.uk/event/free-cpr-defib-training-session-24-september-2025/
LOCATION:Saxon Hall\,\, Aviation Way\,\, Southend\, Essex\, United Kingdom
CATEGORIES:CPR Training
ATTACH;FMTTYPE=image/jpeg:https://www.carlilansleyfoundation.org.uk/wp-content/uploads/2025/02/cpr.jpg
END:VEVENT
END:VCALENDAR